BEGIN:VCALENDAR
VERSION:2.0
PRODID:-//Plone.org//NONSGML plone.app.event//EN
X-WR-TIMEZONE:Europe/Berlin
BEGIN:VEVENT
SUMMARY:Hauskolloquium
DTSTART;TZID=Europe/Berlin:20250624T120000
DTEND;TZID=Europe/Berlin:20250624T130000
DTSTAMP:20260424T065036Z
UID:d8aa30abd95e429384a5d58136e81a50@www.biologie.uni-bonn.de
CREATED:20250331T092356Z
DESCRIPTION:Structural remodeling of NADP-malic enzyme in Zea mays / Struc
 tural remodeling of NADP-malic enzyme in Zea mays
LAST-MODIFIED:20250331T092426Z
URL:https://www.biologie.uni-bonn.de/de/veranstaltungen/hauskolloquium-5
END:VEVENT
BEGIN:VTIMEZONE
TZID:Europe/Berlin
X-LIC-LOCATION:Europe/Berlin
BEGIN:DAYLIGHT
DTSTART:20250330T030000
TZNAME:CEST
TZOFFSETFROM:+0100
TZOFFSETTO:+0200
END:DAYLIGHT
END:VTIMEZONE
END:VCALENDAR
