BEGIN:VCALENDAR
VERSION:2.0
PRODID:-//Plone.org//NONSGML plone.app.event//EN
X-WR-TIMEZONE:Europe/Berlin
BEGIN:VEVENT
SUMMARY:Hauskolloquium
DTSTART;TZID=Europe/Berlin:20250506T120000
DTEND;TZID=Europe/Berlin:20250506T130000
DTSTAMP:20260424T102613Z
UID:eb2701352d88444685e70e711b25791d@www.biologie.uni-bonn.de
CREATED:20250327T080536Z
DESCRIPTION:Functional characterization of class I glutaredoxins in the cy
 tosol and the endoplasmic reticulum of Arabidopsis thaliana
LAST-MODIFIED:20250327T080656Z
URL:https://www.biologie.uni-bonn.de/de/veranstaltungen/hauskolloquium-1
END:VEVENT
BEGIN:VTIMEZONE
TZID:Europe/Berlin
X-LIC-LOCATION:Europe/Berlin
BEGIN:DAYLIGHT
DTSTART:20250330T030000
TZNAME:CEST
TZOFFSETFROM:+0100
TZOFFSETTO:+0200
END:DAYLIGHT
END:VTIMEZONE
END:VCALENDAR
